Workbook
Name Source_dist: Cover_page!$U$2
Name The_species: OFFSET(Species!$A$2,0,0,COUNTA(Species!$A:$A),1)

Sheet Guidance
A12: ACCOBAMS Marine Mammal Recording Forms - General Guidance
A13: Please read the Guide to Using ACCOBAMS Marine Mammal Recording Forms prior to use - this is available to download from Netccobams
A59: Date: September 2018

Sheet Cover_page
A1: Regulatory reference number | B1: Country | C1: Location | D1: Ship/ platform name | E1: Client | F1: Contractor | G1: Survey type (site, 2D, 3D, 4D, OBC, VSP, etc.) | H1: Start date | I1: End date | J1: Number of source vessels | K1: Type of source (e.g. airguns) | L1: Number of airguns (only if airguns used) | M1: Source volume (cu. in.) | N1: Source depth (metres) | O1: Frequency (Hz) | P1: Intensity (dB re. 1µPa or bar metres) | Q1: Shot point interval (metres) | R1: Method of soft start | S1: Visual monitoring equipment used | T1: Magnification of optical equipment | U1: Range of bridge (or primary observation point) from airguns or source | V1: Height of platform above water surface (metres) | W1: How was distance of animals estimated? | X1: Number of dedicated MMOs | Y1: Number of ACCOBAMS trained MMOs/PAM Ops (Course completed) | Z1: Was PAM used? | AA1: Number of PAM operators (PAM only) | AB1: Description of PAM equipment (PAM only) | AC1: Range of hydrophones from airguns (PAM only) | AD1: Bearing of hydrophones from airguns (PAM only) | AE1: Depth of hydrophones (PAM only) | AF1: Comments | AG1: Flag record

Sheet Operations
A1: Regulatory reference number | B1: Ship/ platform name | C1: Date | D1: Reason for firing | E1: Time soft start/ ramp-up began (UTC) | F1: Time of full power (UTC) | G1: Time of start of line (UTC) | H1: Time of end of line (UTC) | I1: Time of reduced output (UTC) (if relevant) | J1: Time airguns/ source stopped (UTC) | K1: Time pre-shooting search began (UTC) | L1: Time search ended (UTC) | M1: Time PAM began (UTC) | N1: Time PAM ended (UTC) | O1: Depth range | P1: Was it day or night in the period prior to firing? | Q1: Was any mitigating action required? | R1: Comments | S1: Flag record

Sheet Effort
A1: IMPORTANT: ENTER A NEW LINE ON THIS FORM IF SOURCE ACTIVITY OR WEATHER CONDITIONS CHANGE, AND AT LEAST ONCE AN HOUR. START A NEW LINE AT MIDNIGHT UTC. ONLY FILL IN THIS FORM WHEN YOU ARE CONCENTRATING ON CONTINUALLY SCANNING THE SEA SURFACE SEARCHING FOR MARINE MAMMALS.
A2: Regulatory reference number | B2: Ship/ platform name | C2: Date | D2: Visual watch or PAM? | E2: Observer's / operator's name(s) | F2: Time of start of section of watch (UTC) | G2: Time of end of section of watch (UTC) | H2: Source activity | I2: Start position - degrees latitude | J2: Start position - minutes latitude | K2: Start position - north/ south | L2: Start position - degrees longitude | M2: Start position - minutes longitude | N2: Start position - east/ west | O2: Depth of water at start postion (metres) | P2: End position - degrees latitude | Q2: End position - minutes latitude | R2: End position - north/ south | S2: End position - degrees longitude | T2: End position - minutes longitude | U2: End position - east/ west | V2: Depth of water at end position (metres) | W2: Speed of vessel (knots) | X2: Wind direction | Y2: Wind force (Beaufort) | Z2: Beaufort Sea state | AA2: Swell | AB2: Visibility (visual watch only) | AC2: Sun glare (visual watch only) | AD2: Precipitation | AE2: Comments | AF2: Flag record

Sheet Sightings
A1: Regulatory reference number | B1: Ship/ platform name | C1: Sighting number | D1: Acoustic detection number | E1: Date | F1: Time at start of encounter (UTC) | G1: Time at end of encounter (UTC) | H1: Were animals detected visually and/ or acoustically? | I1: How were the animals first detected? | J1: Observer's/ operator's name | K1: Position - degrees latitude | L1: Position - minutes latitude | M1: Position - north/ south | N1: Position - degrees longitude | O1: Position - minutes longitude | P1: Position - east/ west | Q1: Water depth (metres) | R1: Species or species group | S1: Description | T1: Bearing to animal | U1: Angle to animal off the bow | V1: Range of animal (metres) | W1: Distance from source to observer (metres) | X1: Distance to source (metres) | Y1: Total number | Z1: Number of adults (visual sightings only) | AA1: Number of juveniles (visual sightings only) | AB1: Number of calves (visual sightings only) | AC1: Photograph taken | AD1: Behaviour (visual sightings only) | AE1: Direction of travel (relative to ship) | AF1: Direction of travel (compass points) | AG1: Airgun/ source activity when animals first detected | AH1: Airgun/ source activity when animals last detected | AI1: Time animals entered the mitigation/ exclusion zone (if relevant) (UTC) | AJ1: Time animals left the mitigation/ exclusion zone (if relevant) (UTC) | AK1: Angle to animals at closest approach | AL1: Range of animal during closest approach (metres) | AM1: Distance from source to the observer (metres) | AN1: Closest distance of animals from airguns/ source (metres) | AO1: Time of closest approach (UTC) | AP1: First observed distance during soft start (if relevant) (metres) | AQ1: Closest observed distance during soft start (if relevant) (metres) | AR1: Last observed distance during soft start (if relevant) (metres) | AS1: What action was taken? | AT1: Length of power-down and/ or shut-down (if relevant) | AU1: Estimated loss of production (if relevant) due to mitigating actions (km) | AV1: Comments | AW1: Flag record
W2: =IF(H2="v",Cover_page!$U$2,IF(H2="b",Cover_page!$U$2,0)) -> 0 | X2: =SQRT((V2^2+W2^2)-(2*V2*W2*COS(RADIANS(180-(U2))))) -> 0 | AM2: =W2 -> 0 | AN2: =SQRT((AL2^2+AM2^2)-(2*AL2*AM2*COS(RADIANS(180-(AK2))))) -> 0
W3: =IF(H3="v",Cover_page!$U$2,IF(H3="b",Cover_page!$U$2,0)) -> 0 | X3: =SQRT((V3^2+W3^2)-(2*V3*W3*COS(RADIANS(180-(U3))))) -> 0 | AM3: =W3 -> 0 | AN3: =SQRT((AL3^2+AM3^2)-(2*AL3*AM3*COS(RADIANS(180-(AK3))))) -> 0
W4: =IF(H4="v",Cover_page!$U$2,IF(H4="b",Cover_page!$U$2,0)) -> 0 | X4: =SQRT((V4^2+W4^2)-(2*V4*W4*COS(RADIANS(180-(U4))))) -> 0 | AM4: =W4 -> 0 | AN4: =SQRT((AL4^2+AM4^2)-(2*AL4*AM4*COS(RADIANS(180-(AK4))))) -> 0
W5: =IF(H5="v",Cover_page!$U$2,IF(H5="b",Cover_page!$U$2,0)) -> 0 | X5: =SQRT((V5^2+W5^2)-(2*V5*W5*COS(RADIANS(180-(U5))))) -> 0 | AM5: =W5 -> 0 | AN5: =SQRT((AL5^2+AM5^2)-(2*AL5*AM5*COS(RADIANS(180-(AK5))))) -> 0
W6: =IF(H6="v",Cover_page!$U$2,IF(H6="b",Cover_page!$U$2,0)) -> 0 | X6: =SQRT((V6^2+W6^2)-(2*V6*W6*COS(RADIANS(180-(U6))))) -> 0 | AM6: =W6 -> 0 | AN6: =SQRT((AL6^2+AM6^2)-(2*AL6*AM6*COS(RADIANS(180-(AK6))))) -> 0
W7: =IF(H7="v",Cover_page!$U$2,IF(H7="b",Cover_page!$U$2,0)) -> 0 | X7: =SQRT((V7^2+W7^2)-(2*V7*W7*COS(RADIANS(180-(U7))))) -> 0 | AM7: =W7 -> 0 | AN7: =SQRT((AL7^2+AM7^2)-(2*AL7*AM7*COS(RADIANS(180-(AK7))))) -> 0
W8: =IF(H8="v",Cover_page!$U$2,IF(H8="b",Cover_page!$U$2,0)) -> 0 | X8: =SQRT((V8^2+W8^2)-(2*V8*W8*COS(RADIANS(180-(U8))))) -> 0 | AM8: =W8 -> 0 | AN8: =SQRT((AL8^2+AM8^2)-(2*AL8*AM8*COS(RADIANS(180-(AK8))))) -> 0
W9: =IF(H9="v",Cover_page!$U$2,IF(H9="b",Cover_page!$U$2,0)) -> 0 | X9: =SQRT((V9^2+W9^2)-(2*V9*W9*COS(RADIANS(180-(U9))))) -> 0 | AM9: =W9 -> 0 | AN9: =SQRT((AL9^2+AM9^2)-(2*AL9*AM9*COS(RADIANS(180-(AK9))))) -> 0
W10: =IF(H10="v",Cover_page!$U$2,IF(H10="b",Cover_page!$U$2,0)) -> 0 | X10: =SQRT((V10^2+W10^2)-(2*V10*W10*COS(RADIANS(180-(U10))))) -> 0 | AM10: =W10 -> 0 | AN10: =SQRT((AL10^2+AM10^2)-(2*AL10*AM10*COS(RADIANS(180-(AK10))))) -> 0
W11: =IF(H11="v",Cover_page!$U$2,IF(H11="b",Cover_page!$U$2,0)) -> 0 | X11: =SQRT((V11^2+W11^2)-(2*V11*W11*COS(RADIANS(180-(U11))))) -> 0 | AM11: =W11 -> 0 | AN11: =SQRT((AL11^2+AM11^2)-(2*AL11*AM11*COS(RADIANS(180-(AK11))))) -> 0
W12: =IF(H12="v",Cover_page!$U$2,IF(H12="b",Cover_page!$U$2,0)) -> 0 | X12: =SQRT((V12^2+W12^2)-(2*V12*W12*COS(RADIANS(180-(U12))))) -> 0 | AM12: =W12 -> 0 | AN12: =SQRT((AL12^2+AM12^2)-(2*AL12*AM12*COS(RADIANS(180-(AK12))))) -> 0
W13: =IF(H13="v",Cover_page!$U$2,IF(H13="b",Cover_page!$U$2,0)) -> 0 | X13: =SQRT((V13^2+W13^2)-(2*V13*W13*COS(RADIANS(180-(U13))))) -> 0 | AM13: =W13 -> 0 | AN13: =SQRT((AL13^2+AM13^2)-(2*AL13*AM13*COS(RADIANS(180-(AK13))))) -> 0
... W9000: =IF(H9000="v",Cover_page!$U$2,IF(H9000="b",Cover_page!$U$2,0)) -> 0 | X9000: =SQRT((V9000^2+W9000^2)-(2*V9000*W9000*COS(RADIANS(180-(U9000))))) -> 0 | AM9000: =W9000 -> 0 | AN9000: =SQRT((AL9000^2+AM9000^2)-(2*AL9000*AM9000*COS(RADIANS(180-(AK9000))))) -> 0

Sheet Personnel
A1: Firstname | B1: Surname | C1: Role | D1: Eye (cm) | E1: Binoculars used | F1: Camera used | G1: ACCOBAMS course date | H1: ACCOBAMS training provider | I1: List other MMO training and date | J1: List other PAM training and date | K1: Number of days MMO experience | L1: Number of days PAM experience | M1: Previous mitigation/research project 1 | N1: Previous mitigation/research project 2 | O1: Previous mitigation/research project 3

Sheet Soft start1
A1: Date | B1: Step | C1: Time UTC | D1: Number of Airguns | E1: Active Airgun Volume cu. in. | F1: Operating Pressure psi.
B2: 1
B3: 2
B4: 3
B5: 4
B6: 5
B7: 6
B8: 7
B9: 8
B10: 9
B11: 10
B12: 11
B13: 12
... B51: 50

Sheet Soft start2
A1: Date | B1: Step | C1: Time UTC | D1: Number of Airguns | E1: Active Airgun Volume cu. in. | F1: Operating Pressure psi.
B2: 1
B3: 2
B4: 3
B5: 4
B6: 5
B7: 6
B8: 7
B9: 8
B10: 9
B11: 10
B12: 11
B13: 12
... B51: 50

Sheet Species
A1: Species List
A2: Balaenoptera acutorostrata
A3: Balaenoptera borealis
A4: Balaenoptera physalus
A5: Caretta caretta
A6: Chelonia myas
A7: Delphinus delphis
A8: Delphinus delphis ponticus
A9: Dermochelys coriacea
A10: Eubalaena glacialis
A11: Globicephala melas
A12: Grampus griseus
... A29: Ziphius cavirostris
